BEGIN:VCALENDAR
VERSION:2.0
PRODID:-//Nyr&ouml;l&auml; - ECPv6.11.0.1//NONSGML v1.0//EN
CALSCALE:GREGORIAN
METHOD:PUBLISH
X-WR-CALNAME:Nyr&ouml;l&auml;
X-ORIGINAL-URL:https://www.nyrola.fi
X-WR-CALDESC:Events for Nyr&ouml;l&auml;
REFRESH-INTERVAL;VALUE=DURATION:PT1H
X-Robots-Tag:noindex
X-PUBLISHED-TTL:PT1H
BEGIN:VTIMEZONE
TZID:UTC
BEGIN:STANDARD
TZOFFSETFROM:+0000
TZOFFSETTO:+0000
TZNAME:UTC
DTSTART:20240101T000000
END:STANDARD
END:VTIMEZONE
BEGIN:VEVENT
DTSTART;TZID=UTC:20240330T170000
DTEND;TZID=UTC:20240330T200000
DTSTAMP:20260422T182054
CREATED:20240325T071808Z
LAST-MODIFIED:20240325T071808Z
UID:10000219-1711818000-1711828800@www.nyrola.fi
SUMMARY:Pääsiäiskokko
DESCRIPTION:
URL:https://www.nyrola.fi/tapahtuma/paasiaiskokko-3/
LOCATION:Nyrölätalo\, Jatkolantie 11\, Kuikka\, 41140
CATEGORIES:Tapahtuma
ATTACH;FMTTYPE=image/jpeg:https://www.nyrola.fi/wp-content/uploads/2024/03/Nyrola-2.jpg
ORGANIZER;CN="Nyr%C3%B6l%C3%A4n kyl%C3%A4yhdistys":MAILTO:kylayhdistys@nyrola.fi
END:VEVENT
END:VCALENDAR