BEGIN:VCALENDAR
VERSION:2.0
PRODID:-//Nyr&ouml;l&auml; - ECPv6.11.0.1//NONSGML v1.0//EN
CALSCALE:GREGORIAN
METHOD:PUBLISH
X-ORIGINAL-URL:https://www.nyrola.fi
X-WR-CALDESC:Events for Nyr&ouml;l&auml;
REFRESH-INTERVAL;VALUE=DURATION:PT1H
X-Robots-Tag:noindex
X-PUBLISHED-TTL:PT1H
BEGIN:VTIMEZONE
TZID:UTC
BEGIN:STANDARD
TZOFFSETFROM:+0000
TZOFFSETTO:+0000
TZNAME:UTC
DTSTART:20220101T000000
END:STANDARD
END:VTIMEZONE
BEGIN:VEVENT
DTSTART;TZID=UTC:20220608T070000
DTEND;TZID=UTC:20220608T190000
DTSTAMP:20260422T222955
CREATED:20220531T145215Z
LAST-MODIFIED:20220531T145215Z
UID:10000102-1654671600-1654714800@www.nyrola.fi
SUMMARY:Mustila Arboretum - retki
DESCRIPTION:Retki Mustilaan toteutuu.\nLinja-auton reitti:\n6.45 Höytiä koulukeskus\nNyröläntie\nSikomäentie\n7.00 Nyrölätalo\nS-market Tikkakosken pysäkki\nPalokanorsipysäkki\nVaajakoski Vesmanninpysäkki\n\n\nOlkaa hyvissä ajoin pysäkeillä.\n\n\nMatkan maksu onnistuu linja-autossa joko käteisellä tai pankkikortilla.
URL:https://www.nyrola.fi/tapahtuma/mustila-arboretum-retki/
LOCATION:Nyrölätalo\, Jatkolantie 11\, Kuikka\, 41140
CATEGORIES:Tapahtuma
ORGANIZER;CN="Nyr%C3%B6l%C3%A4n kyl%C3%A4yhdistys":MAILTO:kylayhdistys@nyrola.fi
END:VEVENT
END:VCALENDAR