BEGIN:VCALENDAR
VERSION:2.0
PRODID:-//Nyr&ouml;l&auml; - ECPv6.11.0.1//NONSGML v1.0//EN
CALSCALE:GREGORIAN
METHOD:PUBLISH
X-ORIGINAL-URL:https://www.nyrola.fi
X-WR-CALDESC:Events for Nyr&ouml;l&auml;
REFRESH-INTERVAL;VALUE=DURATION:PT1H
X-Robots-Tag:noindex
X-PUBLISHED-TTL:PT1H
BEGIN:VTIMEZONE
TZID:UTC
BEGIN:STANDARD
TZOFFSETFROM:+0000
TZOFFSETTO:+0000
TZNAME:UTC
DTSTART:20230101T000000
END:STANDARD
END:VTIMEZONE
BEGIN:VEVENT
DTSTART;TZID=UTC:20230329T180000
DTEND;TZID=UTC:20230329T200000
DTSTAMP:20260423T101727
CREATED:20230326T061302Z
LAST-MODIFIED:20230326T061348Z
UID:10000174-1680112800-1680120000@www.nyrola.fi
SUMMARY:Vuosikokous 2023
DESCRIPTION:
URL:https://www.nyrola.fi/tapahtuma/vuosikokous-2023/
LOCATION:Nyrölätalo\, Jatkolantie 11\, Kuikka\, 41140
CATEGORIES:Tapahtuma
ORGANIZER;CN="Nyr%C3%B6l%C3%A4n kyl%C3%A4yhdistys":MAILTO:kylayhdistys@nyrola.fi
END:VEVENT
END:VCALENDAR