BEGIN:VCALENDAR
VERSION:2.0
PRODID:-//Nyr&ouml;l&auml; - ECPv6.11.0.1//NONSGML v1.0//EN
CALSCALE:GREGORIAN
METHOD:PUBLISH
X-WR-CALNAME:Nyr&ouml;l&auml;
X-ORIGINAL-URL:https://www.nyrola.fi
X-WR-CALDESC:Events for Nyr&ouml;l&auml;
REFRESH-INTERVAL;VALUE=DURATION:PT1H
X-Robots-Tag:noindex
X-PUBLISHED-TTL:PT1H
BEGIN:VTIMEZONE
TZID:UTC
BEGIN:STANDARD
TZOFFSETFROM:+0000
TZOFFSETTO:+0000
TZNAME:UTC
DTSTART:20200101T000000
END:STANDARD
END:VTIMEZONE
BEGIN:VEVENT
DTSTART;TZID=UTC:20250918T180000
DTEND;TZID=UTC:20250918T180000
DTSTAMP:20260421T153539
CREATED:20250810T054813Z
LAST-MODIFIED:20250810T055521Z
UID:10000245-1758218400-1758218400@www.nyrola.fi
SUMMARY:Uskomaton Taikashow / Nyrölä
DESCRIPTION:Koko perheelle suunnattu Uskomaton Taikashow on osa kyläkiertuetta\, jossa taikuri Aatu ja mentalisti Jari hämmästyttävät mitä ihmeellisimmillä tempuillaan. Nyt myös Nyrölän kylällä\, Nyrölätalolla. Osoite: Jatkolantie 11\, Kuikka.\nKiertueen tarkoituksena on tuoda kyliin ympäri Suomen ainutlaatuinen koko perheen mukaansa tempaava taikashow ja sitä kautta iloa kyläläisille. Tavoitteena on myös tukea ja näyttää tapahtumalla\, ettei kyliä saa unohtaa.\nEsityksessä valloilleen pääsevät niin uskomattomat taikatemput\, mentalismi\, akrobatia\, illuusiot kuin hulvattoman hauska komiikka. Nuoresta iästään huolimatta esiintyjäkaksikko on viihdyttänyt yleisöjä jo monien vuosien ajan aina lukemattomista tapahtumista televisioon asti. Show-elementtien ja musiikin lisäksi reilu tunnin mittaisessa esityksessä loistavat valloittavan pirteä nuori energia\, joka vie sinut mukaan taikuuden maailmaan!\nLiput:15€ / Lapset20€ / Aikuiset​​Liput ovelta.\n\nTapahtuman järjestää: Tuotanto MultiTalentit / puh. 044 206 5125Yhteistyössä: Nyrölän Kyläyhdistys Ry & Nyrölätalo
URL:https://www.nyrola.fi/tapahtuma/uskomaton-taikashow-nyrola/
LOCATION:Nyrölätalo\, Jatkolantie 11\, Kuikka\, 41140
CATEGORIES:Tapahtuma
ATTACH;FMTTYPE=image/jpeg:https://www.nyrola.fi/wp-content/uploads/2025/08/514405364_694201006858117_7123750432268093464_n.jpg
ORGANIZER;CN="Nyr%C3%B6l%C3%A4talo":MAILTO:minnamuori@nyrolatalo.fi
END:VEVENT
BEGIN:VEVENT
DTSTART;TZID=UTC:20230617T100000
DTEND;TZID=UTC:20230618T160000
DTSTAMP:20260421T153539
CREATED:20230516T164034Z
LAST-MODIFIED:20230516T164034Z
UID:10000176-1686996000-1687104000@www.nyrola.fi
SUMMARY:KEHRÄYSKURSSI 1 - Kehräämisen perusteiden opettelua
DESCRIPTION:NYRÖLÄTALO Jatkolantie 11\, 41400 Kuikka (Jyväskylä) \nKEHRÄYSKURSSI 1 – kehräämisen perusteiden opettelua\nLa-Su 17.-18.6.2023 klo 10-16 molempina päivinä\nHinta 120 €\nIlmoittautuminen osoitteeseen tuuli.halttunen@gmail.com \nLaita viestin aiheeksi kurssin nimi ja päivämäärä. Ilmoita samalla myös tarvitsetko lainarukkia\, sekä mahdolliset ruoka-aine allergiat. \nhttps://www.nyrolatalo.fi/ \n 
URL:https://www.nyrola.fi/tapahtuma/kehrayskurssi-1-kehraamisen-perusteiden-opettelua/
LOCATION:Nyrölätalo\, Jatkolantie 11\, Kuikka\, 41140
CATEGORIES:Kurssi
ORGANIZER;CN="Nyr%C3%B6l%C3%A4talo":MAILTO:minnamuori@nyrolatalo.fi
END:VEVENT
BEGIN:VEVENT
DTSTART;TZID=UTC:20230208T180000
DTEND;TZID=UTC:20230208T200000
DTSTAMP:20260421T153539
CREATED:20230120T143620Z
LAST-MODIFIED:20240422T044942Z
UID:10000173-1675879200-1675886400@www.nyrola.fi
SUMMARY:Yhteislauluilatamat
DESCRIPTION:Tule laulamaan\, kuuntelemaan tai vaikka kaffille viihtymään.\n8.2.2023 klo: 18-20\nLaulattamassa kansanmusiikkiyhtye Hilipati\nOllaan villasukissa niin kengät ei purista \nTapahtuma on maksuton\nKaffila avoinna kaffia ja purtavaa edullisesti
URL:https://www.nyrola.fi/tapahtuma/yhteislauluilatamat/
LOCATION:Nyrölätalo\, Jatkolantie 11\, Kuikka\, 41140
CATEGORIES:Tapahtuma
ORGANIZER;CN="Nyr%C3%B6l%C3%A4talo":MAILTO:minnamuori@nyrolatalo.fi
END:VEVENT
BEGIN:VEVENT
DTSTART;TZID=UTC:20221215T180000
DTEND;TZID=UTC:20221215T200000
DTSTAMP:20260421T153539
CREATED:20221120T151009Z
LAST-MODIFIED:20221120T151009Z
UID:10000170-1671127200-1671134400@www.nyrola.fi
SUMMARY:Kauneimmat Joululaulut
DESCRIPTION:Lauletaan sisällä klo: 18- \n\nTervetuloa!
URL:https://www.nyrola.fi/tapahtuma/kauneimmat-joululaulut-4/
LOCATION:Nyrölätalo\, Jatkolantie 11\, Kuikka\, 41140
END:VEVENT
BEGIN:VEVENT
DTSTART;TZID=UTC:20221211T100000
DTEND;TZID=UTC:20221211T140000
DTSTAMP:20260421T153540
CREATED:20221120T145528Z
LAST-MODIFIED:20221120T151152Z
UID:10000112-1670752800-1670767200@www.nyrola.fi
SUMMARY:JOULUMYYJÄISET 2022
DESCRIPTION:Tule ostamaan ja myymään sukat ja kakut\, piparit ja laatikot\, lahjat ja koristeet.\nJatkolantie 11 41140 Kuikka\nVaraa pöytäpaikkasi 10€\nViestillä 0407676857\nwww.nyrolatalo.fi\nTervetuloa!
URL:https://www.nyrola.fi/tapahtuma/joulumyjaiaset-2022/
LOCATION:Nyrölätalo\, Jatkolantie 11\, Kuikka\, 41140
ORGANIZER;CN="Nyr%C3%B6l%C3%A4talo":MAILTO:minnamuori@nyrolatalo.fi
END:VEVENT
BEGIN:VEVENT
DTSTART;TZID=UTC:20221126T100000
DTEND;TZID=UTC:20221126T160000
DTSTAMP:20260421T153540
CREATED:20221120T145217Z
LAST-MODIFIED:20221120T145217Z
UID:10000109-1669456800-1669478400@www.nyrola.fi
SUMMARY:Kirpputori
DESCRIPTION:KIRPPUTORI\n26.11.2022 klo 10-16\nTee kaappeihin tilaa ja myy tarpeettomat eteenpäin.\nJATKOLANTIE 11 41140 KUIKKA \nVARAA PÖYTÄ 10€  0407676857 \n\nWWW.NYROLATALO.FI
URL:https://www.nyrola.fi/tapahtuma/kirpputori-2/
LOCATION:Nyrölätalo\, Jatkolantie 11\, Kuikka\, 41140
ORGANIZER;CN="Nyr%C3%B6l%C3%A4talo":MAILTO:minnamuori@nyrolatalo.fi
END:VEVENT
BEGIN:VEVENT
DTSTART;TZID=UTC:20221019T180000
DTEND;TZID=UTC:20221019T200000
DTSTAMP:20260421T153540
CREATED:20221012T164215Z
LAST-MODIFIED:20221012T164215Z
UID:10000108-1666202400-1666209600@www.nyrola.fi
SUMMARY:Lautapeli-ilta Nyrölätalolla
DESCRIPTION:Kaikki ovat tervetulleita pelaamaan lautapelejä.
URL:https://www.nyrola.fi/tapahtuma/lautapeli-ilta-nyrolatalolla/
LOCATION:Nyrölätalo\, Jatkolantie 11\, Kuikka\, 41140
ORGANIZER;CN="Nyr%C3%B6l%C3%A4talo":MAILTO:minnamuori@nyrolatalo.fi
END:VEVENT
BEGIN:VEVENT
DTSTART;TZID=UTC:20211212T100000
DTEND;TZID=UTC:20211212T140000
DTSTAMP:20260421T153540
CREATED:20211129T052941Z
LAST-MODIFIED:20211129T053143Z
UID:10000169-1639303200-1639317600@www.nyrola.fi
SUMMARY:JOULUMARKKINAT 12.12.2021 klo 10-14
DESCRIPTION:TERVETULOA MYYMÄÄN JA OSTAMAAN LÄMMINHENKISILLE MARKKINOILLE. \nVaraa pöytäpaikka tuotteillesi 0407676857 viesti. Hinta 10€.
URL:https://www.nyrola.fi/tapahtuma/joulumarkkinat-12-12-2021-klo-10-14/
LOCATION:Nyrölätalo\, Jatkolantie 11\, Kuikka\, 41140
CATEGORIES:Tapahtuma
ORGANIZER;CN="Nyr%C3%B6l%C3%A4talo":MAILTO:minnamuori@nyrolatalo.fi
END:VEVENT
BEGIN:VEVENT
DTSTART;TZID=UTC:20211127T100000
DTEND;TZID=UTC:20211127T160000
DTSTAMP:20260421T153540
CREATED:20211115T160143Z
LAST-MODIFIED:20211115T160243Z
UID:10000167-1638007200-1638028800@www.nyrola.fi
SUMMARY:HAVUPALLO TAI KRANSSI 27.11.2021
DESCRIPTION:
URL:https://www.nyrola.fi/tapahtuma/havupallo-tai-kranssi-27-11-2021/
LOCATION:Nyrölätalo\, Jatkolantie 11\, Kuikka\, 41140
ORGANIZER;CN="Nyr%C3%B6l%C3%A4talo":MAILTO:minnamuori@nyrolatalo.fi
END:VEVENT
BEGIN:VEVENT
DTSTART;TZID=UTC:20210925T100000
DTEND;TZID=UTC:20210925T140000
DTSTAMP:20260421T153540
CREATED:20210916T061728Z
LAST-MODIFIED:20210916T061728Z
UID:10000093-1632564000-1632578400@www.nyrola.fi
SUMMARY:KIRPPUTORI ja hernekeittoa
DESCRIPTION:Tilaa uusille vaatteille ja tavaroille.\nVaraa paikkasi VIESTI 0407676857\, ollaan sisätiloissa.\nJos keli sallii\, myös ulkona voi olla pöytiä jos tarvitaan.\nKaffila avoinna\, tarjolla hernekeittoa\, kaffia ja omenapiirakkaa\, nam!\n\n\nTervetuloa!
URL:https://www.nyrola.fi/tapahtuma/kirpputori-ja-hernekeittoa/
LOCATION:Nyrölätalo\, Jatkolantie 11\, Kuikka\, 41140
ATTACH;FMTTYPE=image/jpeg:https://www.nyrola.fi/wp-content/uploads/2021/09/Nyrolatalo-kirpputori.jpg
ORGANIZER;CN="Nyr%C3%B6l%C3%A4talo":MAILTO:minnamuori@nyrolatalo.fi
END:VEVENT
BEGIN:VEVENT
DTSTART;TZID=UTC:20210613T100000
DTEND;TZID=UTC:20210613T140000
DTSTAMP:20260421T153540
CREATED:20210519T084652Z
LAST-MODIFIED:20210519T084652Z
UID:10000143-1623578400-1623592800@www.nyrola.fi
SUMMARY:PERÄKONTTIKIRPPIS
DESCRIPTION:PERÄKONTTIKIRPPIS\n\nSU 13.6. klo 10-14\nPaikka hinta 10€\, varaa 0407676857\nMyyjät paikalle klo 9 ja poistuminen klo 14:30\n\nTalon KAFFIO\navoinna 10-15\, käteinen raha \nps. huomioidaan THL:n ohjeistus\n\n\nSamalla voit liittyä Nyrölän kyläyhdistyksen jäsenksi ja esittää toiveita Talon tapahtumiksi / kursseiksi\n\n\nTERVETULOA! terveisin TalonEki ja Minnamuori
URL:https://www.nyrola.fi/tapahtuma/perakonttikirppis/
LOCATION:Nyrölätalo\, Jatkolantie 11\, Kuikka\, 41140
ORGANIZER;CN="Nyr%C3%B6l%C3%A4talo":MAILTO:minnamuori@nyrolatalo.fi
END:VEVENT
BEGIN:VEVENT
DTSTART;TZID=UTC:20201010T100000
DTEND;TZID=UTC:20201010T160000
DTSTAMP:20260421T153540
CREATED:20200904T194840Z
LAST-MODIFIED:20201002T041333Z
UID:10000138-1602324000-1602345600@www.nyrola.fi
SUMMARY:Kirpputori Nyrölätalolla PERUTTU!
DESCRIPTION:Tapahtuma on päätetty perua korona tilanteen kehityksen vuoksi tältä syksyltä.\n \nKirpputori Nyrölätalolla\nKirpputori toteutetaan ulkona ja sisällä.\nSisällä on pöytä paikkoja rajoitetusti. Suosittelemme ilmoittautumaan etukäteen\, jotta osaamme varata oikean määrän pöytiä myyjien käyttöön. \nUlkona myynti tapahtuu ”peräkontti” kirppis tyyliin. Saa myydä suoraan peräkontista tai peräkärrystä. Ulkomyyjät tuovat omat pöydät jos tarvitsevat. Ulko myynti ei vaadi ennakko ilmoittautumista. \nLisätietoa: https://www.nyrola.fi/kirpputori-nyrolatalolla/ \nIlmoittautuminen/lisätiedot: Minna 040 767 6857 \n 
URL:https://www.nyrola.fi/tapahtuma/kirpputori-nyrolatalolla/
LOCATION:Nyrölätalo\, Jatkolantie 11\, Kuikka\, 41140
ORGANIZER;CN="Nyr%C3%B6l%C3%A4talo":MAILTO:minnamuori@nyrolatalo.fi
END:VEVENT
BEGIN:VEVENT
DTSTART;TZID=UTC:20200912T100000
DTEND;TZID=UTC:20200912T160000
DTSTAMP:20260421T153540
CREATED:20200815T194257Z
LAST-MODIFIED:20200904T194553Z
UID:10000137-1599904800-1599926400@www.nyrola.fi
SUMMARY:Kirpputori
DESCRIPTION:Kirpputori Nyrölätalolla\nSiirtyy 10.10.20 Lauantai kello 10:00-16:00\nKirpputori toteutetaan ulkona ja sisällä.\nSisällä on pöytä paikkoja rajoitetusti. Suosittelemme ilmoittautumaan etukäteen\, jotta osaamme varata oikean määrän pöytiä myyjien käyttöön. \nUlkona myynti tapahtuu ”peräkontti” kirppis tyyliin. Saa myydä suoraan peräkontista tai peräkärrystä. Ulkomyyjät tuovat omat pöydät jos tarvitsevat. Ulko myynti ei vaadi ennakko ilmoittautumista. \nIlmoittautuminen/lisätiedot: Minna 040 767 6857
URL:https://www.nyrola.fi/tapahtuma/kirpputori/
LOCATION:Nyrölätalo\, Jatkolantie 11\, Kuikka\, 41140
ORGANIZER;CN="Nyr%C3%B6l%C3%A4talo":MAILTO:minnamuori@nyrolatalo.fi
END:VEVENT
END:VCALENDAR