BEGIN:VCALENDAR
VERSION:2.0
PRODID:-//Nyr&ouml;l&auml; - ECPv6.11.0.1//NONSGML v1.0//EN
CALSCALE:GREGORIAN
METHOD:PUBLISH
X-WR-CALNAME:Nyr&ouml;l&auml;
X-ORIGINAL-URL:https://www.nyrola.fi
X-WR-CALDESC:Events for Nyr&ouml;l&auml;
REFRESH-INTERVAL;VALUE=DURATION:PT1H
X-Robots-Tag:noindex
X-PUBLISHED-TTL:PT1H
BEGIN:VTIMEZONE
TZID:UTC
BEGIN:STANDARD
TZOFFSETFROM:+0000
TZOFFSETTO:+0000
TZNAME:UTC
DTSTART:20200101T000000
END:STANDARD
END:VTIMEZONE
BEGIN:VEVENT
DTSTART;TZID=UTC:20210613T100000
DTEND;TZID=UTC:20210613T140000
DTSTAMP:20260421T165405
CREATED:20210519T084652Z
LAST-MODIFIED:20210519T084652Z
UID:10000143-1623578400-1623592800@www.nyrola.fi
SUMMARY:PERÄKONTTIKIRPPIS
DESCRIPTION:PERÄKONTTIKIRPPIS\n\nSU 13.6. klo 10-14\nPaikka hinta 10€\, varaa 0407676857\nMyyjät paikalle klo 9 ja poistuminen klo 14:30\n\nTalon KAFFIO\navoinna 10-15\, käteinen raha \nps. huomioidaan THL:n ohjeistus\n\n\nSamalla voit liittyä Nyrölän kyläyhdistyksen jäsenksi ja esittää toiveita Talon tapahtumiksi / kursseiksi\n\n\nTERVETULOA! terveisin TalonEki ja Minnamuori
URL:https://www.nyrola.fi/tapahtuma/perakonttikirppis/
LOCATION:Nyrölätalo\, Jatkolantie 11\, Kuikka\, 41140
ORGANIZER;CN="Nyr%C3%B6l%C3%A4talo":MAILTO:minnamuori@nyrolatalo.fi
END:VEVENT
BEGIN:VEVENT
DTSTART;TZID=UTC:20201010T100000
DTEND;TZID=UTC:20201010T160000
DTSTAMP:20260421T165405
CREATED:20200904T194840Z
LAST-MODIFIED:20201002T041333Z
UID:10000138-1602324000-1602345600@www.nyrola.fi
SUMMARY:Kirpputori Nyrölätalolla PERUTTU!
DESCRIPTION:Tapahtuma on päätetty perua korona tilanteen kehityksen vuoksi tältä syksyltä.\n \nKirpputori Nyrölätalolla\nKirpputori toteutetaan ulkona ja sisällä.\nSisällä on pöytä paikkoja rajoitetusti. Suosittelemme ilmoittautumaan etukäteen\, jotta osaamme varata oikean määrän pöytiä myyjien käyttöön. \nUlkona myynti tapahtuu ”peräkontti” kirppis tyyliin. Saa myydä suoraan peräkontista tai peräkärrystä. Ulkomyyjät tuovat omat pöydät jos tarvitsevat. Ulko myynti ei vaadi ennakko ilmoittautumista. \nLisätietoa: https://www.nyrola.fi/kirpputori-nyrolatalolla/ \nIlmoittautuminen/lisätiedot: Minna 040 767 6857 \n 
URL:https://www.nyrola.fi/tapahtuma/kirpputori-nyrolatalolla/
LOCATION:Nyrölätalo\, Jatkolantie 11\, Kuikka\, 41140
ORGANIZER;CN="Nyr%C3%B6l%C3%A4talo":MAILTO:minnamuori@nyrolatalo.fi
END:VEVENT
BEGIN:VEVENT
DTSTART;TZID=UTC:20200912T100000
DTEND;TZID=UTC:20200912T160000
DTSTAMP:20260421T165405
CREATED:20200815T194257Z
LAST-MODIFIED:20200904T194553Z
UID:10000137-1599904800-1599926400@www.nyrola.fi
SUMMARY:Kirpputori
DESCRIPTION:Kirpputori Nyrölätalolla\nSiirtyy 10.10.20 Lauantai kello 10:00-16:00\nKirpputori toteutetaan ulkona ja sisällä.\nSisällä on pöytä paikkoja rajoitetusti. Suosittelemme ilmoittautumaan etukäteen\, jotta osaamme varata oikean määrän pöytiä myyjien käyttöön. \nUlkona myynti tapahtuu ”peräkontti” kirppis tyyliin. Saa myydä suoraan peräkontista tai peräkärrystä. Ulkomyyjät tuovat omat pöydät jos tarvitsevat. Ulko myynti ei vaadi ennakko ilmoittautumista. \nIlmoittautuminen/lisätiedot: Minna 040 767 6857
URL:https://www.nyrola.fi/tapahtuma/kirpputori/
LOCATION:Nyrölätalo\, Jatkolantie 11\, Kuikka\, 41140
ORGANIZER;CN="Nyr%C3%B6l%C3%A4talo":MAILTO:minnamuori@nyrolatalo.fi
END:VEVENT
END:VCALENDAR